BEGIN:VCALENDAR
PRODID:-//github.com/rianjs/ical.net//NONSGML ical.net 4.0//EN
VERSION:2.0
BEGIN:VEVENT
DTEND;TZID=America/Los_Angeles:20250903T160000
DTSTAMP:20260425T112225Z
DTSTART;TZID=America/Los_Angeles:20250903T153000
LOCATION:ONLINE - ZOOM
SEQUENCE:0
STATUS:TENTATIVE
SUMMARY:Appointment with Life Matrix Psychiatry
UID:ed8be69a-63aa-427a-a71b-d78525e6b8f1
END:VEVENT
END:VCALENDAR
